BEGIN:VCALENDAR
VERSION:2.0
PRODID:-//wp-events-plugin.com//7.2.3.1//EN
TZID:Europe/London
X-WR-TIMEZONE:Europe/London
BEGIN:VEVENT
UID:145@abbottsann.com
DTSTART;TZID=Europe/London:20160820T100000
DTEND;TZID=Europe/London:20160820T140000
DTSTAMP:20160729T151141Z
URL:https://www.abbottsann.com/events/5007/
SUMMARY:Open Day at Andover War Memorial Hospital
DESCRIPTION:Open Day at Andover War Memorial Hospital -- Saturday 20th Augu
 st from 10am until 2pm
ATTACH;FMTTYPE=image/jpeg:https://www.abbottsann.com/wp-content/uploads/20
 16/07/nhs-Poster-icon.jpg
CATEGORIES:Local Event
LOCATION:Andover War Memorial Hospital\, Charlton Road\, Andover\, Hampshir
 e\, SP10 3LB\, United Kingdom
GEO:51.21329650000001;-1.492215299999998
X-APPLE-STRUCTURED-LOCATION;VALUE=URI;X-ADDRESS=Charlton Road\, Andover\, H
 ampshire\, SP10 3LB\, United Kingdom;X-APPLE-RADIUS=100;X-TITLE=Andover Wa
 r Memorial Hospital:geo:51.21329650000001,-1.492215299999998
END:VEVENT
BEGIN:VTIMEZONE
TZID:Europe/London
X-LIC-LOCATION:Europe/London
BEGIN:DAYLIGHT
DTSTART:20160327T020000
TZOFFSETFROM:+0000
TZOFFSETTO:+0100
TZNAME:BST
END:DAYLIGHT
END:VTIMEZONE
END:VCALENDAR