BEGIN:VCALENDAR
VERSION:2.0
PRODID:-//wp-events-plugin.com//7.2.3.1//EN
TZID:Europe/London
X-WR-TIMEZONE:Europe/London
BEGIN:VEVENT
UID:274@abbottsann.com
DTSTART;TZID=Europe/London:20220903T140000
DTEND;TZID=Europe/London:20220903T163000
DTSTAMP:20220819T111222Z
URL:https://www.abbottsann.com/events/abbotts-ann-fete-2022-saturday-3rd-s
 eptember/
SUMMARY:ABBOTTS ANN FETE 2022 – SATURDAY 3rd SEPTEMBER
DESCRIPTION:ABBOTTS ANN FETE 2022 – SATURDAY 3rd SEPTEMBER\nThe annual fe
 te will return in full this year after the much reduced but highly success
 ful event of last year. By popular request the Fete is going to take place
  within the heart of the village again\, using a multitude of venues (War 
 Memorial Hall\, Village Shop\, The Eagle Inn\, The Eagle Inn Skittle Alley
 \, St Mary’s Church) to house the Show and other attractions.\nThe Fete 
 Committee\, which consists of many of the village community groups and bus
 inesses: Womens’ Institute\, Nursery School\, Village Shop\, The Eagle I
 nn\, Abbotts Ann Sportsfield Group\, Abbotts Ann PTA\, St Mary’s Church\
 , War Memorial Hall Committee\, and all have expressed their support in br
 ing the Fete back in to the heart of the village.\nTo run the event safely
  there will need to be two temporary road closures as detailed below:\nStr
 eets subject to Closure\nDuck St (From the Eagle Inn to Hillside)\nDate: \
 nSaturday 03 Sep 22\nHours of Closure:\n10:00 to 17:30\nAlternative Route:
 \nVia Church Road and Mill Lane or Little Ann Road (in both directions).\n
 Streets subject to Closure\nMonxton Rd (from Duck Street to the last house
  in the village.)\nDate: \nSaturday 03 Sep 22\nHours of Closure:\n14.00 to
  15.30\nAlternative Route:\nVia Andover Rd and Cattle Lane (in both direct
 ions)\nCar Parking for visitors to the village will be at Bulbery Sports F
 ields (signposted and with Marshals).\n
ATTACH;FMTTYPE=image/jpeg:https://www.abbottsann.com/wp-content/uploads/20
 22/06/Fete-2022-icon.jpg
CATEGORIES:Fete
END:VEVENT
BEGIN:VTIMEZONE
TZID:Europe/London
X-LIC-LOCATION:Europe/London
BEGIN:DAYLIGHT
DTSTART:20220327T020000
TZOFFSETFROM:+0000
TZOFFSETTO:+0100
TZNAME:BST
END:DAYLIGHT
END:VTIMEZONE
END:VCALENDAR