BEGIN:VCALENDAR
VERSION:2.0
PRODID:-//wp-events-plugin.com//7.2.3.1//EN
TZID:Europe/London
X-WR-TIMEZONE:Europe/London
BEGIN:VEVENT
UID:283@abbottsann.com
DTSTART;TZID=Europe/London:20221106T173000
DTEND;TZID=Europe/London:20221106T210000
DTSTAMP:20221011T203310Z
URL:https://www.abbottsann.com/events/abbotts-ann-fireworks-display-bonfir
 e-night-2/
SUMMARY:Abbotts Ann Fireworks Display & Bonfire Night
DESCRIPTION:Join us on Abbotts Ann Sports Field for fun filled family eveni
 ng with music\, funfair entertainment\, BBQ and Beer Tent.
CATEGORIES:Bulbery Sports Field,Village School
LOCATION:Bulbery Sports Field\, Abbotts Ann\, Bulbery\, Abbotts Ann\, Hamps
 hire\, SP11 7BN\, United Kingdom
X-APPLE-STRUCTURED-LOCATION;VALUE=URI;X-ADDRESS=Bulbery\, Abbotts Ann\, Ham
 pshire\, SP11 7BN\, United Kingdom;X-APPLE-RADIUS=100;X-TITLE=Bulbery Spor
 ts Field\, Abbotts Ann:geo:0,0
END:VEVENT
BEGIN:VTIMEZONE
TZID:Europe/London
X-LIC-LOCATION:Europe/London
BEGIN:STANDARD
DTSTART:20221030T010000
TZOFFSETFROM:+0100
TZOFFSETTO:+0000
TZNAME:GMT
END:STANDARD
END:VTIMEZONE
END:VCALENDAR