BEGIN:VCALENDAR
VERSION:2.0
PRODID:-//wp-events-plugin.com//7.2.3.1//EN
TZID:Europe/London
X-WR-TIMEZONE:Europe/London
BEGIN:VEVENT
UID:213@abbottsann.com
DTSTART;TZID=Europe/London:20171105T173000
DTEND;TZID=Europe/London:20171105T210000
DTSTAMP:20171014T124609Z
URL:https://www.abbottsann.com/events/abbotts-ann-fireworks-display-bonfir
 e-night/
SUMMARY:Abbotts Ann Fireworks Display &amp\; Bonfire Night
DESCRIPTION:\nBBQ\, BAR\, TEA / COFFEE\, SWEETS\, NOVELTIES\, FREE PARKING!
 \nTickets on sale in Abbotts Ann Village Shop\, The Eagle and Abbotts Ann 
 Primary School.
CATEGORIES:Bulbery Sports Field,Community Event,Local Event,Village School
LOCATION:\, \, 
X-APPLE-STRUCTURED-LOCATION;VALUE=URI;X-ADDRESS=\, ;X-APPLE-RADIUS=100;X-TI
 TLE=:geo:0,0
END:VEVENT
BEGIN:VTIMEZONE
TZID:Europe/London
X-LIC-LOCATION:Europe/London
BEGIN:STANDARD
DTSTART:20171029T010000
TZOFFSETFROM:+0100
TZOFFSETTO:+0000
TZNAME:GMT
END:STANDARD
END:VTIMEZONE
END:VCALENDAR