BEGIN:VCALENDAR
VERSION:2.0
PRODID:-//wp-events-plugin.com//7.2.3.1//EN
TZID:Europe/London
X-WR-TIMEZONE:Europe/London
BEGIN:VEVENT
UID:44@abbottsann.com
DTSTART;TZID=Europe/London:20150328T100000
DTEND;TZID=Europe/London:20150328T130000
DTSTAMP:20150213T213525Z
URL:https://www.abbottsann.com/events/abbotts-ann-green-action-3/
SUMMARY:Abbotts Ann Green Action
DESCRIPTION:Community Energy Morning:\n\ncome and find out how to save ener
 gy in your home – displays of methods from the cheap and simple to the m
 ore adventurous \nbring your questions about the insulation needs of your 
 home – and get the answers \nplenty to interest everyone\, especially th
 ose who have had a visit from the thermal imaging camera (see below) \nAt 
 10.30 and 11.30 – a presentation on plans for a community energy project
  for our village\n28th March 10:00 AM to 1:00 PM – drop in any time.\n\n
 War Memorial Hall - everyone welcome – refreshments will be served\n\n \
 n\nFor more information contact David Read on david.read@mybroadbandmail.c
 om or 710090\n\n \n\nFind the hot-spots in your home - where are you leaki
 ng heat? Our thermal imaging camera expert will tell you. Contact Ann Hopw
 ood on 710090 or ann.hopwood7@bitinternet for a £10 visit.\n\n Community 
 Energy Morning:\n\ncome and find out how to save energy in your home – d
 isplays of methods from the cheap and simple to the more adventurous \nbri
 ng your questions about the insulation needs of your home – and get the 
 answers \nplenty to interest everyone\, especially those who have had a vi
 sit from the thermal imaging camera (see below) \nAt 10.30 and 11.30 – a
  presentation on plans for a community energy project for our village\n28t
 h March 10:00 AM to 1:00 PM – drop in any time.\n\nWar Memorial Hall - e
 veryone welcome – refreshments will be served\n\n \n\nFor more informati
 on contact David Read on david.read@mybroadbandmail.com or 710090\n\n \n\n
 Find the hot-spots in your home - where are you leaking heat? Our thermal 
 imaging camera expert will tell you. Contact Ann Hopwood on 710090 or ann.
 hopwood7@bitinternet for a £10 visit.\n\n \n\nCommunity Energy Morning:\n
 \ncome and find out how to save energy in your home – displays of method
 s from the cheap and simple to the more adventurous \nbring your questions
  about the insulation needs of your home – and get the answers \nplenty 
 to interest everyone\, especially those who have had a visit from the ther
 mal imaging camera (see below) \nAt 10.30 and 11.30 – a presentation on 
 plans for a community energy project for our village\n28th March 10:00 AM 
 to 1:00 PM – drop in any time.\n\nWar Memorial Hall - everyone welcome 
 – refreshments will be served\n\n \n\nFor more information contact David
  Read on david.read@mybroadbandmail.com or 710090\n\n \n\nFind the hot-spo
 ts in your home - where are you leaking heat? Our thermal imaging camera e
 xpert will tell you. Contact Ann Hopwood on 710090 or ann.hopwood7@bitinte
 rnet for a £10 visit.\n\n \n\nall you need to know about insulating your 
 home\n
LOCATION:\, \, 
X-APPLE-STRUCTURED-LOCATION;VALUE=URI;X-ADDRESS=\, ;X-APPLE-RADIUS=100;X-TI
 TLE=:geo:0,0
END:VEVENT
BEGIN:VTIMEZONE
TZID:Europe/London
X-LIC-LOCATION:Europe/London
BEGIN:STANDARD
DTSTART:20141026T010000
TZOFFSETFROM:+0100
TZOFFSETTO:+0000
TZNAME:GMT
END:STANDARD
END:VTIMEZONE
END:VCALENDAR