BEGIN:VCALENDAR
VERSION:2.0
PRODID:-//wp-events-plugin.com//7.2.3.1//EN
TZID:Europe/London
X-WR-TIMEZONE:Europe/London
BEGIN:VEVENT
UID:41@abbottsann.com
DTSTART;TZID=Europe/London:20150318T193000
DTEND;TZID=Europe/London:20150318T213000
DTSTAMP:20150210T191753Z
URL:https://www.abbottsann.com/events/abbotts-ann-green-action-events-in-m
 arch/
SUMMARY:Abbotts Ann Green Action events in March
DESCRIPTION:All the latest news from AAGA at the AGM on 18th March\nLots of
  ideas for saving energy in your home on 28th March
CATEGORIES:Community Event
LOCATION:\, \, 
X-APPLE-STRUCTURED-LOCATION;VALUE=URI;X-ADDRESS=\, ;X-APPLE-RADIUS=100;X-TI
 TLE=:geo:0,0
END:VEVENT
BEGIN:VTIMEZONE
TZID:Europe/London
X-LIC-LOCATION:Europe/London
BEGIN:STANDARD
DTSTART:20141026T010000
TZOFFSETFROM:+0100
TZOFFSETTO:+0000
TZNAME:GMT
END:STANDARD
END:VTIMEZONE
END:VCALENDAR