BEGIN:VCALENDAR
VERSION:2.0
PRODID:-//wp-events-plugin.com//7.2.3.1//EN
TZID:Europe/London
X-WR-TIMEZONE:Europe/London
BEGIN:VEVENT
UID:205@abbottsann.com
DTSTART;TZID=Europe/London:20180510T190000
DTEND;TZID=Europe/London:20180510T210000
DTSTAMP:20170525T081527Z
URL:https://www.abbottsann.com/events/abbotts-ann-parish-assembly/
SUMMARY:Abbotts Ann Annual General Meeting
DESCRIPTION:Abbotts Ann&nbsp\;Annual General Meeting&nbsp\;starts at 7pm
CATEGORIES:Parish Council
LOCATION:\, \, 
X-APPLE-STRUCTURED-LOCATION;VALUE=URI;X-ADDRESS=\, ;X-APPLE-RADIUS=100;X-TI
 TLE=:geo:0,0
END:VEVENT
BEGIN:VTIMEZONE
TZID:Europe/London
X-LIC-LOCATION:Europe/London
BEGIN:DAYLIGHT
DTSTART:20180325T020000
TZOFFSETFROM:+0000
TZOFFSETTO:+0100
TZNAME:BST
END:DAYLIGHT
END:VTIMEZONE
END:VCALENDAR