BEGIN:VCALENDAR
VERSION:2.0
PRODID:-//wp-events-plugin.com//7.2.3.1//EN
TZID:Europe/London
X-WR-TIMEZONE:Europe/London
BEGIN:VEVENT
UID:203@abbottsann.com
DTSTART;TZID=Europe/London:20180301T190000
DTEND;TZID=Europe/London:20180301T210000
DTSTAMP:20170525T081143Z
URL:https://www.abbottsann.com/events/abbotts-ann-parish-council-meeting-1
 1/
SUMMARY:Abbotts Ann Parish Council Meeting
DESCRIPTION:Abbotts Ann Parish Council Meeting starts at 7pm and members of
  the public are welcome to attend
CATEGORIES:Parish Council
LOCATION:Burghclere Down Community Centre\, Berry Way\, Andover\, Hampshire
 \, SP10 3RZ\, United Kingdom
GEO:51.20438619999999;-1.5066398000000163
X-APPLE-STRUCTURED-LOCATION;VALUE=URI;X-ADDRESS=Berry Way\, Andover\, Hamps
 hire\, SP10 3RZ\, United Kingdom;X-APPLE-RADIUS=100;X-TITLE=Burghclere Dow
 n Community Centre:geo:51.20438619999999,-1.5066398000000163
END:VEVENT
BEGIN:VTIMEZONE
TZID:Europe/London
X-LIC-LOCATION:Europe/London
BEGIN:STANDARD
DTSTART:20171029T010000
TZOFFSETFROM:+0100
TZOFFSETTO:+0000
TZNAME:GMT
END:STANDARD
END:VTIMEZONE
END:VCALENDAR