BEGIN:VCALENDAR
VERSION:2.0
PRODID:-//wp-events-plugin.com//7.2.3.1//EN
TZID:Europe/London
X-WR-TIMEZONE:Europe/London
BEGIN:VEVENT
UID:199@abbottsann.com
DTSTART;TZID=Europe/London:20171102T190000
DTEND;TZID=Europe/London:20171102T210000
DTSTAMP:20170525T080806Z
URL:https://www.abbottsann.com/events/abbotts-ann-parish-council-meeting-7
 /
SUMMARY:Abbotts Ann Parish Council Meeting
DESCRIPTION:Abbotts Ann Parish Council Meeting starts at 7pm and members of
  the public are welcome to attend
CATEGORIES:Parish Council
LOCATION:\, \, 
X-APPLE-STRUCTURED-LOCATION;VALUE=URI;X-ADDRESS=\, ;X-APPLE-RADIUS=100;X-TI
 TLE=:geo:0,0
END:VEVENT
BEGIN:VTIMEZONE
TZID:Europe/London
X-LIC-LOCATION:Europe/London
BEGIN:STANDARD
DTSTART:20171029T010000
TZOFFSETFROM:+0100
TZOFFSETTO:+0000
TZNAME:GMT
END:STANDARD
END:VTIMEZONE
END:VCALENDAR