BEGIN:VCALENDAR
VERSION:2.0
PRODID:-//wp-events-plugin.com//7.2.3.1//EN
TZID:Europe/London
X-WR-TIMEZONE:Europe/London
BEGIN:VEVENT
UID:177@abbottsann.com
DTSTART;TZID=Europe/London:20170609T193000
DTEND;TZID=Europe/London:20170609T220000
DTSTAMP:20170530T124019Z
URL:https://www.abbottsann.com/events/abbotts-ann-players-present-the-gian
 t-rat-of-sumatra/
SUMMARY:Abbotts Ann Players Presents Sherlock Holmes and The Giant Rat of S
 umatra
DESCRIPTION:Abbotts Ann Players\npresent a comedy\n\n\n\n\n&nbsp\;\n\n\n\nF
 riday 9th June &amp\; Saturday 10th June\nat 7:30pm\nAbbotts Ann War Memor
 ial Hall\nTickets available from the Village Shop
CATEGORIES:Abbotts Ann Players
LOCATION:\, \, 
X-APPLE-STRUCTURED-LOCATION;VALUE=URI;X-ADDRESS=\, ;X-APPLE-RADIUS=100;X-TI
 TLE=:geo:0,0
END:VEVENT
BEGIN:VTIMEZONE
TZID:Europe/London
X-LIC-LOCATION:Europe/London
BEGIN:DAYLIGHT
DTSTART:20170326T020000
TZOFFSETFROM:+0000
TZOFFSETTO:+0100
TZNAME:BST
END:DAYLIGHT
END:VTIMEZONE
END:VCALENDAR