BEGIN:VCALENDAR
VERSION:2.0
PRODID:-//wp-events-plugin.com//7.2.3.1//EN
TZID:Europe/London
X-WR-TIMEZONE:Europe/London
BEGIN:VEVENT
UID:353@abbottsann.com
DTSTART;TZID=Europe/London:20241116T123000
DTEND;TZID=Europe/London:20241116T140000
DTSTAMP:20241111T160644Z
URL:https://www.abbottsann.com/events/abbotts-ann-primary-school-autumn-20
 24-jumble-sale/
SUMMARY:Abbotts Ann Primary School Autumn 2024 Jumble Sale
DESCRIPTION:Abbotts Ann Primary School is holding their autumn 2024 Jumble 
 Sale on Saturday 16th November 2024 in Abbotts Ann Primary School Hall at 
 12:30pm.\nShould you wish to donate\nGood Quality Jumble (Clothes\, Textil
 es\, Toys\, Children's Books\, Bric-a-Brac\,\nHousehold\, Garden or sports
  Equipment)\,\nPlease take your donations to Abbotts Ann Primary School on
  Friday 15th November.\nUnfortunately\, we cannot accept donations of book
 s (except children's)\, DVDs or CDs.\nAll money raised goes towards fundra
 ising for the school.\nYour support\, as always is very much appreciated. 
 Thank you.
ATTACH;FMTTYPE=image/jpeg:https://www.abbottsann.com/wp-content/uploads/20
 24/11/Primary-School-icon.jpg
CATEGORIES:Village School
LOCATION:Abbotts Ann Church of England Primary School\, Duck Street\, Abbot
 ts Ann\, Hampshire\, SP11 7FE\, United Kingdom
GEO:51.184081;-1.530383
X-APPLE-STRUCTURED-LOCATION;VALUE=URI;X-ADDRESS=Duck Street\, Abbotts Ann\,
  Hampshire\, SP11 7FE\, United Kingdom;X-APPLE-RADIUS=100;X-TITLE=Abbotts 
 Ann Church of England Primary School:geo:51.184081,-1.530383
END:VEVENT
BEGIN:VTIMEZONE
TZID:Europe/London
X-LIC-LOCATION:Europe/London
BEGIN:STANDARD
DTSTART:20241027T010000
TZOFFSETFROM:+0100
TZOFFSETTO:+0000
TZNAME:GMT
END:STANDARD
END:VTIMEZONE
END:VCALENDAR