BEGIN:VCALENDAR
VERSION:2.0
PRODID:-//wp-events-plugin.com//7.2.3.1//EN
TZID:Europe/London
X-WR-TIMEZONE:Europe/London
BEGIN:VEVENT
UID:264@abbottsann.com
DTSTART;TZID=Europe/London:20210707T193000
DTEND;TZID=Europe/London:20210707T203000
DTSTAMP:20210615T093541Z
URL:https://www.abbottsann.com/events/abbotts-ann-village-shop-association
 -agm/
SUMMARY:Abbotts Ann Village Shop Association AGM
DESCRIPTION:Due to continuing Government restrictions the AGM of the Villag
 e Shop Association will not now take place as previously advertised at the
  school hall on 7 July.\nThe AGM will now be held online using Zoom at 7.3
 0 pm on the same day\, i.e. 7 July 2021.\nA link will be sent out the day 
 before the AGM that will enable you to join&nbsp\;this meeting live.\nChri
 s Davis\n&nbsp\;\nChair&nbsp\;\nAbbotts Ann Village Shop Association
CATEGORIES:Community Event
END:VEVENT
BEGIN:VTIMEZONE
TZID:Europe/London
X-LIC-LOCATION:Europe/London
BEGIN:DAYLIGHT
DTSTART:20210328T020000
TZOFFSETFROM:+0000
TZOFFSETTO:+0100
TZNAME:BST
END:DAYLIGHT
END:VTIMEZONE
END:VCALENDAR