BEGIN:VCALENDAR
VERSION:2.0
PRODID:-//wp-events-plugin.com//7.2.3.1//EN
TZID:Europe/London
X-WR-TIMEZONE:Europe/London
BEGIN:VEVENT
UID:277@abbottsann.com
DTSTART;TZID=Europe/London:20221102T203000
DTEND;TZID=Europe/London:20221102T214500
DTSTAMP:20220907T162837Z
URL:https://www.abbottsann.com/events/abbotts-ann-war-memorial-hall-annual
 -general-meeting/
SUMMARY:ABBOTTS ANN WAR MEMORIAL HALL -- Annual General Meeting
DESCRIPTION:ABBOTTS ANN WAR MEMORIAL HALL\nNOTICE OF ANNUAL GENERAL MEETING
 \nWEDNESDAY 2nd&nbsp\;NOVEMBER 2022 AT 8.30 P.M. IN THE MAIN HALL\n&nbsp\;
 \nAll residents are invited to attend the above socially distanced AGM to 
 hear the reports of the Chairman and Treasurer\, and contribute their own 
 thoughts on the future of our War Memorial Hall.\n&nbsp\;\nGraham Stallard
 \nSecretary and Trustee\nAbbotts Ann War Memorial Hall
CATEGORIES:Community Event
LOCATION:\, \, 
X-APPLE-STRUCTURED-LOCATION;VALUE=URI;X-ADDRESS=\, ;X-APPLE-RADIUS=100;X-TI
 TLE=:geo:0,0
END:VEVENT
BEGIN:VTIMEZONE
TZID:Europe/London
X-LIC-LOCATION:Europe/London
BEGIN:STANDARD
DTSTART:20221030T010000
TZOFFSETFROM:+0100
TZOFFSETTO:+0000
TZNAME:GMT
END:STANDARD
END:VTIMEZONE
END:VCALENDAR