BEGIN:VCALENDAR
VERSION:2.0
PRODID:-//wp-events-plugin.com//7.2.3.1//EN
TZID:Europe/London
X-WR-TIMEZONE:Europe/London
BEGIN:VEVENT
UID:148@abbottsann.com
DTSTART;TZID=Europe/London:20161009T103000
DTEND;TZID=Europe/London:20161009T150000
DTSTAMP:20160911T151202Z
URL:https://www.abbottsann.com/events/abbotts-ann-war-memorial-hall-fun-ca
 r-rally-treasure-hunt/
SUMMARY:Abbotts Ann War Memorial Hall Fun Car Rally & Treasure Hunt
DESCRIPTION:Abbotts Ann War Memorial Hall Fun Car Rally &amp\; Treasure Hun
 t\nGive the family saloon a treat\, (absolutely no experience necessary).
             \nWhat’s Included\,\nRally Entry for Car and two
  people.\nSunday Lunch for Two People.\nOpportunity to try your car on the
  new environmental friendly Thruxton Skid Pan.\nAnd as much fun as we can 
 dream of.\nEntry £46\,\nAdditional passenger Adult £15.\nChild £10.\nEn
 try Forms Available from the Village Shop or Download HERE
CATEGORIES:Village Hall
END:VEVENT
BEGIN:VTIMEZONE
TZID:Europe/London
X-LIC-LOCATION:Europe/London
BEGIN:DAYLIGHT
DTSTART:20160327T020000
TZOFFSETFROM:+0000
TZOFFSETTO:+0100
TZNAME:BST
END:DAYLIGHT
END:VTIMEZONE
END:VCALENDAR