BEGIN:VCALENDAR
VERSION:2.0
PRODID:-//wp-events-plugin.com//7.2.3.1//EN
TZID:Europe/London
X-WR-TIMEZONE:Europe/London
BEGIN:VEVENT
UID:152@abbottsann.com
DTSTART;TZID=Europe/London:20161008T140000
DTEND;TZID=Europe/London:20161008T163000
DTSTAMP:20160921T180701Z
URL:https://www.abbottsann.com/events/apple-day-2/
SUMMARY:Apple  Day
DESCRIPTION:Everything to do with apples!
CATEGORIES:Community Event,Local Event
LOCATION:\, \, 
X-APPLE-STRUCTURED-LOCATION;VALUE=URI;X-ADDRESS=\, ;X-APPLE-RADIUS=100;X-TI
 TLE=:geo:0,0
END:VEVENT
BEGIN:VTIMEZONE
TZID:Europe/London
X-LIC-LOCATION:Europe/London
BEGIN:DAYLIGHT
DTSTART:20160327T020000
TZOFFSETFROM:+0000
TZOFFSETTO:+0100
TZNAME:BST
END:DAYLIGHT
END:VTIMEZONE
END:VCALENDAR