BEGIN:VCALENDAR
VERSION:2.0
PRODID:-//wp-events-plugin.com//7.2.3.1//EN
TZID:Europe/London
X-WR-TIMEZONE:Europe/London
BEGIN:VEVENT
UID:212@abbottsann.com
DTSTART;TZID=Europe/London:20171007T120000
DTEND;TZID=Europe/London:20171007T160000
DTSTAMP:20171002T081121Z
URL:https://www.abbottsann.com/events/apple-day-3/
SUMMARY:Apple Day
DESCRIPTION:\n\n\n\n&nbsp\;\n&nbsp\;\n\n\n\nAbbotts Ann\nAPPLE BAKE COMPETI
 TION\nSaturday 7 October\nMemorial Hall\nTwo classes – 12 and under\; ov
 er 12 / adults\nPrizes for the tastiest apple themed cake\, bun\, loaf\, c
 upcake\, biscuit\, tart or other teatime treat\nBring your entries to the 
 Memorial Hall by NOON on 7 October\nDig out your baking tins. Polish your 
 whisks.\nLet’s get baking.\n\n\n\n\n&nbsp\;\n\n\n\n
LOCATION:\, \, 
X-APPLE-STRUCTURED-LOCATION;VALUE=URI;X-ADDRESS=\, ;X-APPLE-RADIUS=100;X-TI
 TLE=:geo:0,0
END:VEVENT
BEGIN:VTIMEZONE
TZID:Europe/London
X-LIC-LOCATION:Europe/London
BEGIN:DAYLIGHT
DTSTART:20170326T020000
TZOFFSETFROM:+0000
TZOFFSETTO:+0100
TZNAME:BST
END:DAYLIGHT
END:VTIMEZONE
END:VCALENDAR