BEGIN:VCALENDAR
VERSION:2.0
PRODID:-//wp-events-plugin.com//7.2.3.1//EN
TZID:Europe/London
X-WR-TIMEZONE:Europe/London
BEGIN:VEVENT
UID:245@abbottsann.com
DTSTART;TZID=Europe/London:20180929T173000
DTEND;TZID=Europe/London:20180929T213000
DTSTAMP:20180925T072615Z
URL:https://www.abbottsann.com/events/barn-dance-anna-benefice/
SUMMARY:Barn Dance (Anna Benefice)
DESCRIPTION:Fun For All The Family. Hog Roast and Vegetarian Option.\nLive 
 music from The Wyvern Dance Band \nBar provided by Test Brewing\nTickets 
 available from Abbotts Ann Village Shop \n&nbsp\;
CATEGORIES:Community Event,Local Event,St Mary's Church Event
LOCATION:\, \, 
X-APPLE-STRUCTURED-LOCATION;VALUE=URI;X-ADDRESS=\, ;X-APPLE-RADIUS=100;X-TI
 TLE=:geo:0,0
END:VEVENT
BEGIN:VTIMEZONE
TZID:Europe/London
X-LIC-LOCATION:Europe/London
BEGIN:DAYLIGHT
DTSTART:20180325T020000
TZOFFSETFROM:+0000
TZOFFSETTO:+0100
TZNAME:BST
END:DAYLIGHT
END:VTIMEZONE
END:VCALENDAR