BEGIN:VCALENDAR
VERSION:2.0
PRODID:-//wp-events-plugin.com//7.2.3.1//EN
TZID:Europe/London
X-WR-TIMEZONE:Europe/London
BEGIN:VEVENT
UID:222@abbottsann.com
DTSTART;TZID=Europe/London:20171218T183000
DTEND;TZID=Europe/London:20171218T203000
DTSTAMP:20171204T123959Z
URL:https://www.abbottsann.com/events/carol-singing-little-ann/
SUMMARY:Carol singing\, Little Ann
DESCRIPTION:Everyone is welcome to sing carols around Little Ann on Mon 18 
 Dec.  Song sheets will be provided but please bring lanterns or torches.
   We will meet outside the Poplar Farm Inn at 6.30pm and sing around the 
 houses for about 2 hours (depending on the weather).  There are refreshme
 nts afterwards.  If you don't feel like singing\, we need people to help 
 with the collection in aid of church funds.
CATEGORIES:Community Event,St Mary's Church Event
END:VEVENT
BEGIN:VTIMEZONE
TZID:Europe/London
X-LIC-LOCATION:Europe/London
BEGIN:STANDARD
DTSTART:20171029T010000
TZOFFSETFROM:+0100
TZOFFSETTO:+0000
TZNAME:GMT
END:STANDARD
END:VTIMEZONE
END:VCALENDAR