BEGIN:VCALENDAR
VERSION:2.0
PRODID:-//wp-events-plugin.com//7.2.3.1//EN
TZID:Europe/London
X-WR-TIMEZONE:Europe/London
BEGIN:VEVENT
UID:168@abbottsann.com
DTSTART;TZID=Europe/London:20161219T183000
DTEND;TZID=Europe/London:20161219T203000
DTSTAMP:20161211T222121Z
URL:https://www.abbottsann.com/events/carol-singing-part1-little-ann/
SUMMARY:Carol Singing - Part1 Little Ann
DESCRIPTION:If you enjoy singing carols why not join us in Carol singing ro
 und the village.\nMeeting at The Poplar farm&nbsp\;Inn before carol singin
 g round Little Ann and finishing at someone's house for a festive drink an
 d nibbles.
CATEGORIES:Community Event,St Mary's Church Event
LOCATION:Poplar Farm Inn -- Little Ann\, Old Salisbury Road\, Little Ann\, 
 Andover\, Hampshire\, SP11 7NJ\, United Kingdom
GEO:51.19127506221203;-1.5179474145415952
X-APPLE-STRUCTURED-LOCATION;VALUE=URI;X-ADDRESS=Old Salisbury Road\, Little
  Ann\, Andover\, Hampshire\, SP11 7NJ\, United Kingdom;X-APPLE-RADIUS=100;
 X-TITLE=Poplar Farm Inn -- Little Ann:geo:51.19127506221203,-1.51794741454
 15952
END:VEVENT
BEGIN:VTIMEZONE
TZID:Europe/London
X-LIC-LOCATION:Europe/London
BEGIN:STANDARD
DTSTART:20161030T010000
TZOFFSETFROM:+0100
TZOFFSETTO:+0000
TZNAME:GMT
END:STANDARD
END:VTIMEZONE
END:VCALENDAR