BEGIN:VCALENDAR
VERSION:2.0
PRODID:-//wp-events-plugin.com//7.2.3.1//EN
TZID:Europe/London
X-WR-TIMEZONE:Europe/London
BEGIN:VEVENT
UID:35@abbottsann.com
DTSTART;TZID=Europe/London:20141215T183000
DTEND;TZID=Europe/London:20141215T203000
DTSTAMP:20141202T124842Z
URL:https://www.abbottsann.com/events/carol-singing-round-abbotts-ann-2/
SUMMARY:Carol Singing around Abbotts Ann
DESCRIPTION:Meeting outside the Eagle\, with refreshments afterwards. In ai
 d of church funds.
CATEGORIES:Community Event,St Mary's Church Event
LOCATION:The Eagle Public House\, Duck Street\, Abbotts Ann\, Hampshire\, S
 P11 7BG\, United Kingdom
GEO:51.18742206198492;-1.5305131269835783
X-APPLE-STRUCTURED-LOCATION;VALUE=URI;X-ADDRESS=Duck Street\, Abbotts Ann\,
  Hampshire\, SP11 7BG\, United Kingdom;X-APPLE-RADIUS=100;X-TITLE=The Eagl
 e Public House:geo:51.18742206198492,-1.5305131269835783
END:VEVENT
BEGIN:VTIMEZONE
TZID:Europe/London
X-LIC-LOCATION:Europe/London
BEGIN:STANDARD
DTSTART:20141026T010000
TZOFFSETFROM:+0100
TZOFFSETTO:+0000
TZNAME:GMT
END:STANDARD
END:VTIMEZONE
END:VCALENDAR