BEGIN:VCALENDAR
VERSION:2.0
PRODID:-//wp-events-plugin.com//7.2.3.1//EN
TZID:Europe/London
X-WR-TIMEZONE:Europe/London
BEGIN:VEVENT
UID:286@abbottsann.com
DTSTART;TZID=Europe/London:20221127T160000
DTEND;TZID=Europe/London:20221127T173000
DTSTAMP:20221115T162822Z
URL:https://www.abbottsann.com/events/choral-evensong-at-st-marys-4pm-sun-
 27-nov/
SUMMARY:Choral Evensong at St Mary’s\, 4pm Sun 27 Nov
DESCRIPTION:Happy New Year!\nAdvent Sunday (27th November) is the beginning
  of the Church's year and we will be celebrating with a fully Choral Evens
 ong at 4.00pm at St Mary's\, Abbotts Ann. We will create the drama of the 
 season using darkness and candles\, with evocative music. It won't quite b
 e Salisbury Cathedral\, but we'll do our best. Come and join us!
CATEGORIES:Community Event
LOCATION:St Marys Church\, St. Mary's Church\, Abbotts Ann\, Hampshire\, SP
 11 7BH\, United Kingdom
GEO:51.190375;-1.528365
X-APPLE-STRUCTURED-LOCATION;VALUE=URI;X-ADDRESS=St. Mary's Church\, Abbotts
  Ann\, Hampshire\, SP11 7BH\, United Kingdom;X-APPLE-RADIUS=100;X-TITLE=St
  Marys Church:geo:51.190375,-1.528365
END:VEVENT
BEGIN:VTIMEZONE
TZID:Europe/London
X-LIC-LOCATION:Europe/London
BEGIN:STANDARD
DTSTART:20221030T010000
TZOFFSETFROM:+0100
TZOFFSETTO:+0000
TZNAME:GMT
END:STANDARD
END:VTIMEZONE
END:VCALENDAR