BEGIN:VCALENDAR
VERSION:2.0
PRODID:-//wp-events-plugin.com//7.2.3.1//EN
TZID:Europe/London
X-WR-TIMEZONE:Europe/London
BEGIN:VEVENT
UID:220@abbottsann.com
DTSTART;TZID=Europe/London:20171210T180000
DTEND;TZID=Europe/London:20171210T190000
DTSTAMP:20171204T122818Z
URL:https://www.abbottsann.com/events/christingle-service/
SUMMARY:Christingle Service\, St Mary's Church
DESCRIPTION:Christingle is a celebration that takes place in thousands of c
 hurches and schools across the country to raise funds for The Children's S
 ociety.\n&nbsp\;\nSt Mary's Fun Club is an after-school club at Abbotts An
 n School which is raising funds for the Children's Society by asking child
 ren to put any spare change into a collection candle.  At the Christingle
  service children will exchange these for a Christingle. \n&nbsp\;\nChris
 tingles are made from an orange decorated with red tape\, sweets and a can
 dle.  The orange represents the world\, the ribbon is the love and blood 
 of Christ.  The sweets are for the whole of God's creation whilst the can
 dle symbolises Jesus' light to the world\, bringing hope to people in dark
 ness.
CATEGORIES:St Mary's Church Event
LOCATION:\, \, 
X-APPLE-STRUCTURED-LOCATION;VALUE=URI;X-ADDRESS=\, ;X-APPLE-RADIUS=100;X-TI
 TLE=:geo:0,0
END:VEVENT
BEGIN:VTIMEZONE
TZID:Europe/London
X-LIC-LOCATION:Europe/London
BEGIN:STANDARD
DTSTART:20171029T010000
TZOFFSETFROM:+0100
TZOFFSETTO:+0000
TZNAME:GMT
END:STANDARD
END:VTIMEZONE
END:VCALENDAR