BEGIN:VCALENDAR
VERSION:2.0
PRODID:-//wp-events-plugin.com//7.2.3.1//EN
TZID:Europe/London
X-WR-TIMEZONE:Europe/London
BEGIN:VEVENT
UID:164@abbottsann.com
DTSTART;TZID=Europe/London:20161218T180000
DTEND;TZID=Europe/London:20161218T190000
DTSTAMP:20161211T214230Z
URL:https://www.abbottsann.com/events/christmas-carol-service/
SUMMARY:Christmas Carol Service
DESCRIPTION:Come and join us for our Carol Service.
CATEGORIES:St Mary's Church Event
LOCATION:\, \, 
X-APPLE-STRUCTURED-LOCATION;VALUE=URI;X-ADDRESS=\, ;X-APPLE-RADIUS=100;X-TI
 TLE=:geo:0,0
END:VEVENT
BEGIN:VTIMEZONE
TZID:Europe/London
X-LIC-LOCATION:Europe/London
BEGIN:STANDARD
DTSTART:20161030T010000
TZOFFSETFROM:+0100
TZOFFSETTO:+0000
TZNAME:GMT
END:STANDARD
END:VTIMEZONE
END:VCALENDAR