BEGIN:VCALENDAR
VERSION:2.0
PRODID:-//wp-events-plugin.com//7.2.3.1//EN
TZID:Europe/London
X-WR-TIMEZONE:Europe/London
BEGIN:VEVENT
UID:256@abbottsann.com
DTSTART;TZID=Europe/London:20190612T110000
DTEND;TZID=Europe/London:20190612T121500
DTSTAMP:20190606T162848Z
URL:https://www.abbottsann.com/events/clive-judds-funeral/
SUMMARY:Clive Judd's funeral
DESCRIPTION:Clive Judd’s funeral will take place on Wednesday 12th June a
 t 11.00am at Holy Trinity Church\, Winchester\, in the form of a Requiem M
 ass.  There will also be a Thanksgiving Service at All Saints\, Upper Clat
 ford\, on Thursday 13th June at 2.30pm.  Both services are open to anyone 
 who wishes to come.
CATEGORIES:Local Event
LOCATION:Holy Trinity Church\, Winchester\, Upper Brook Street\, Winchester
 \, Hampshire\, SO23 8DG\, United Kingdom
X-APPLE-STRUCTURED-LOCATION;VALUE=URI;X-ADDRESS=Upper Brook Street\, Winche
 ster\, Hampshire\, SO23 8DG\, United Kingdom;X-APPLE-RADIUS=100;X-TITLE=Ho
 ly Trinity Church\, Winchester:geo:0,0
END:VEVENT
BEGIN:VTIMEZONE
TZID:Europe/London
X-LIC-LOCATION:Europe/London
BEGIN:DAYLIGHT
DTSTART:20190331T020000
TZOFFSETFROM:+0000
TZOFFSETTO:+0100
TZNAME:BST
END:DAYLIGHT
END:VTIMEZONE
END:VCALENDAR