BEGIN:VCALENDAR
VERSION:2.0
PRODID:-//wp-events-plugin.com//7.2.3.1//EN
TZID:Europe/London
X-WR-TIMEZONE:Europe/London
BEGIN:VEVENT
UID:162@abbottsann.com
DTSTART;TZID=Europe/London:20161119T090000
DTEND;TZID=Europe/London:20161119T123000
DTSTAMP:20161114T125752Z
URL:https://www.abbottsann.com/events/early-christmas-bazaar/
SUMMARY:Early Christmas Bazaar at the Shop
DESCRIPTION:Come shop and get your Christmas goodies at the Early Bazaar&nb
 sp\;\nAt the Abbott Ann Village shop and Post Office\nLots of goodies\, cr
 afts\, gifts\nSaturday 19th November&nbsp\;\nOrder your Turkey or Christma
 s meat and get a discount on the day !\nMulled wine and mince pies&nbsp\;\
 nPopcorn and treats\n&nbsp\;\n&nbsp\;
CATEGORIES:Village Shop and Post Office
LOCATION:Abbotts Ann Village Shop\, Duck Street\, Abbotts Ann\, Hampshire\,
  SP11 7AZ\, Test Valley\, United Kingdom
GEO:51.19050869344809;-1.5311192576721168
X-APPLE-STRUCTURED-LOCATION;VALUE=URI;X-ADDRESS=Duck Street\, Abbotts Ann\,
  Hampshire\, SP11 7AZ\, Test Valley\, United Kingdom;X-APPLE-RADIUS=100;X-
 TITLE=Abbotts Ann Village Shop:geo:51.19050869344809,-1.5311192576721168
END:VEVENT
BEGIN:VTIMEZONE
TZID:Europe/London
X-LIC-LOCATION:Europe/London
BEGIN:STANDARD
DTSTART:20161030T010000
TZOFFSETFROM:+0100
TZOFFSETTO:+0000
TZNAME:GMT
END:STANDARD
END:VTIMEZONE
END:VCALENDAR