BEGIN:VCALENDAR
VERSION:2.0
PRODID:-//wp-events-plugin.com//7.2.3.1//EN
TZID:Europe/London
X-WR-TIMEZONE:Europe/London
BEGIN:VEVENT
UID:175@abbottsann.com
DTSTART;TZID=Europe/London:20170416T110000
DTEND;TZID=Europe/London:20170416T114500
DTSTAMP:20170408T201911Z
URL:https://www.abbottsann.com/events/easter-day-family-eucharist/
SUMMARY:Easter Day Family Eucharist
DESCRIPTION:Easter Morning Family Eucharist\nAll are welcome to join us for
  our Family service on this special Sunday.\nStarting at 11am at St Mary's
  Abbotts Ann\n&nbsp\;
CATEGORIES:St Mary's Church Event
LOCATION:\, \, 
X-APPLE-STRUCTURED-LOCATION;VALUE=URI;X-ADDRESS=\, ;X-APPLE-RADIUS=100;X-TI
 TLE=:geo:0,0
END:VEVENT
BEGIN:VTIMEZONE
TZID:Europe/London
X-LIC-LOCATION:Europe/London
BEGIN:DAYLIGHT
DTSTART:20170326T020000
TZOFFSETFROM:+0000
TZOFFSETTO:+0100
TZNAME:BST
END:DAYLIGHT
END:VTIMEZONE
END:VCALENDAR