BEGIN:VCALENDAR
VERSION:2.0
PRODID:-//wp-events-plugin.com//7.2.3.1//EN
TZID:Europe/London
X-WR-TIMEZONE:Europe/London
BEGIN:VEVENT
UID:237@abbottsann.com
DTSTART;TZID=Europe/London:20180401T110000
DTEND;TZID=Europe/London:20180401T120000
DTSTAMP:20180328T084148Z
URL:https://www.abbottsann.com/events/easter-day-service-at-st-marys-churc
 h/
SUMMARY:Easter Day service at St Mary's Church
DESCRIPTION:Easter Day Holy Communion\nService to celebrate Easter Sunday.
   Suitable for all ages\,  Led by the Revd Nicky Judd.\nEaster Egg hunt!
CATEGORIES:St Mary's Church Event
LOCATION:\, \, 
X-APPLE-STRUCTURED-LOCATION;VALUE=URI;X-ADDRESS=\, ;X-APPLE-RADIUS=100;X-TI
 TLE=:geo:0,0
END:VEVENT
BEGIN:VTIMEZONE
TZID:Europe/London
X-LIC-LOCATION:Europe/London
BEGIN:DAYLIGHT
DTSTART:20180325T020000
TZOFFSETFROM:+0000
TZOFFSETTO:+0100
TZNAME:BST
END:DAYLIGHT
END:VTIMEZONE
END:VCALENDAR