BEGIN:VCALENDAR
VERSION:2.0
PRODID:-//wp-events-plugin.com//7.2.3.1//EN
TZID:Europe/London
X-WR-TIMEZONE:Europe/London
BEGIN:VEVENT
UID:370@abbottsann.com
DTSTART;TZID=Europe/London:20250430T190000
DTEND;TZID=Europe/London:20250430T210000
DTSTAMP:20250331T143656Z
URL:https://www.abbottsann.com/events/electors-of-the-parish-of-abbotts-an
 n-are-invited-to-attend/
SUMMARY:Electors of the Parish of Abbotts Ann are invited to attend THE ANN
 UAL PARISH MEETING
DESCRIPTION:Electors of the Parish of Abbotts Ann are invited to attend\nTH
 E ANNUAL PARISH MEETING\nThe meeting will be held at:\nAbbotts Ann War Mem
 orial Hall\n40 Duck Street\, Abbotts Ann\, Andover\, SP11 7AZ\nOn: Wednesd
 ay 30th April 2025\nTime: 19:00\nHeld by the Chair of Abbotts Ann Parish C
 ouncil\nThe meeting format is as follows:\n\n	Pre-meeting refreshments\n	I
 ntroduction and welcome by the Parish Council Chair\n	Reports by Portfolio
  Holders\n	Reports by Borough and county Councillors\n	Reports by Communit
 y Groups\n	General Q&amp\;A with the Parish Council (written submissions a
 re preferred)\n	&nbsp\;\n\nNotice issued by Amanda Owen -- Parish Clerk --
  Date of issue: 27th March 2025\nEmail address: clerk@abbottsann-pc.gov.uk
 \nPhone number: 07342 181468
ATTACH;FMTTYPE=image/jpeg:https://www.abbottsann.com/wp-content/uploads/20
 25/03/Parish-Council-icon.jpg
CATEGORIES:Community Event
LOCATION:Abbotts Ann War Memorial Hall\, Duck Street\, Abbotts Ann\, Hampsh
 ire\, SP117AZ\, United Kingdom
GEO:51.19161;-1.531056
X-APPLE-STRUCTURED-LOCATION;VALUE=URI;X-ADDRESS=Duck Street\, Abbotts Ann\,
  Hampshire\, SP117AZ\, United Kingdom;X-APPLE-RADIUS=100;X-TITLE=Abbotts A
 nn War Memorial Hall:geo:51.19161,-1.531056
END:VEVENT
BEGIN:VTIMEZONE
TZID:Europe/London
X-LIC-LOCATION:Europe/London
BEGIN:DAYLIGHT
DTSTART:20250330T020000
TZOFFSETFROM:+0000
TZOFFSETTO:+0100
TZNAME:BST
END:DAYLIGHT
END:VTIMEZONE
END:VCALENDAR