BEGIN:VCALENDAR
VERSION:2.0
PRODID:-//wp-events-plugin.com//7.2.3.1//EN
TZID:Europe/London
X-WR-TIMEZONE:Europe/London
BEGIN:VEVENT
UID:40@abbottsann.com
DTSTART;TZID=Europe/London:20150307T153000
DTEND;TZID=Europe/London:20150307T170000
DTSTAMP:20150210T191827Z
URL:https://www.abbottsann.com/events/fairtrade-fortnight-tea-tasting/
SUMMARY:Fairtrade Fortnight tea tasting
DESCRIPTION:Fairtrade Fortnight  Tea tasting &amp\; High tea\nJoin us and 
 tea expert Tim Clifton to sample a range of fairtrade &amp\; organic teas
  and  find out a little bit more about our afternoon cuppa.\nTickets £1
 0\,  Available from Abbotts Ann Village Shop and Fair’s Fayre\, Weyhill
 .\nProceeds split between St Mary’s loo fund\, Cord and Teafund’s\nloo
  twinning project\, raising money to improve access to\nbasic hygiene faci
 lities and clean water in some of the\nworld’s poorest communities
CATEGORIES:Community Event,St Mary's Church Event
LOCATION:\, \, 
X-APPLE-STRUCTURED-LOCATION;VALUE=URI;X-ADDRESS=\, ;X-APPLE-RADIUS=100;X-TI
 TLE=:geo:0,0
END:VEVENT
BEGIN:VTIMEZONE
TZID:Europe/London
X-LIC-LOCATION:Europe/London
BEGIN:STANDARD
DTSTART:20141026T010000
TZOFFSETFROM:+0100
TZOFFSETTO:+0000
TZNAME:GMT
END:STANDARD
END:VTIMEZONE
END:VCALENDAR