BEGIN:VCALENDAR
VERSION:2.0
PRODID:-//wp-events-plugin.com//7.2.3.1//EN
TZID:Europe/London
X-WR-TIMEZONE:Europe/London
BEGIN:VEVENT
UID:37@abbottsann.com
DTSTART;TZID=Europe/London:20150118T100000
DTEND;TZID=Europe/London:20150118T110000
DTSTAMP:20150110T001511Z
URL:https://www.abbottsann.com/events/family-service/
SUMMARY:Family Service
DESCRIPTION:\nAll are welcome to our monthly all-age lay-led child-friendly
  Family Service.\n \n\n\nThis month we are celebrating the season of Epip
 hany\nRefreshments afterwards
CATEGORIES:St Mary's Church Event
LOCATION:\, \, 
X-APPLE-STRUCTURED-LOCATION;VALUE=URI;X-ADDRESS=\, ;X-APPLE-RADIUS=100;X-TI
 TLE=:geo:0,0
END:VEVENT
BEGIN:VTIMEZONE
TZID:Europe/London
X-LIC-LOCATION:Europe/London
BEGIN:STANDARD
DTSTART:20141026T010000
TZOFFSETFROM:+0100
TZOFFSETTO:+0000
TZNAME:GMT
END:STANDARD
END:VTIMEZONE
END:VCALENDAR