BEGIN:VCALENDAR
VERSION:2.0
PRODID:-//wp-events-plugin.com//7.2.3.1//EN
TZID:Europe/London
X-WR-TIMEZONE:Europe/London
BEGIN:VEVENT
UID:163@abbottsann.com
DTSTART;TZID=Europe/London:20161217T100000
DTEND;TZID=Europe/London:20161217T120000
DTSTAMP:20161208T105634Z
URL:https://www.abbottsann.com/events/father-christmas-making-annual-stop-
 at-abbotts-ann-village-shop/
SUMMARY:Father Christmas making annual stop at Abbotts Ann Village Shop
DESCRIPTION:On Saturday 17th December we will see Father Christmas make his
  annual stop at Abbotts Ann Village Shop\, checking up on how well all of 
 the local children have been behaving this year.\nHe will be in store from
  10am until 12 noon so make sure you bring your little ones down to meet h
 im!
ATTACH;FMTTYPE=image/jpeg:https://www.abbottsann.com/wp-content/uploads/20
 14/02/shop.jpg
CATEGORIES:Village Shop and Post Office
LOCATION:Abbotts Ann Village Shop\, Duck Street\, Abbotts Ann\, Hampshire\,
  SP11 7AZ\, Test Valley\, United Kingdom
GEO:51.19050869344809;-1.5311192576721168
X-APPLE-STRUCTURED-LOCATION;VALUE=URI;X-ADDRESS=Duck Street\, Abbotts Ann\,
  Hampshire\, SP11 7AZ\, Test Valley\, United Kingdom;X-APPLE-RADIUS=100;X-
 TITLE=Abbotts Ann Village Shop:geo:51.19050869344809,-1.5311192576721168
END:VEVENT
BEGIN:VTIMEZONE
TZID:Europe/London
X-LIC-LOCATION:Europe/London
BEGIN:STANDARD
DTSTART:20161030T010000
TZOFFSETFROM:+0100
TZOFFSETTO:+0000
TZNAME:GMT
END:STANDARD
END:VTIMEZONE
END:VCALENDAR