BEGIN:VCALENDAR
VERSION:2.0
PRODID:-//wp-events-plugin.com//7.2.3.1//EN
TZID:Europe/London
X-WR-TIMEZONE:Europe/London
BEGIN:VEVENT
UID:270@abbottsann.com
DTSTART;TZID=Europe/London:20211110T190000
DTEND;TZID=Europe/London:20211110T203000
DTSTAMP:20211014T204709Z
URL:https://www.abbottsann.com/events/fete-cheese-wine-and-agm/
SUMMARY:Fete Cheese &amp\; Wine and AGM
DESCRIPTION:Everyone Welcome!\n\n	Come and enjoy a glass or two and a nibbl
 e.\n	See where the funds raised at this year’s fete go to.\n	Have your s
 ay – Fete 2022 Village Centre or Bulbery Sports Field?\n	Bring your fete
  ideas\, suggestions and comments.\n	Meet the fete committee.\n	AGM\n\n  
  
CATEGORIES:Community Event,Fete,Local Event
LOCATION:\, \, 
X-APPLE-STRUCTURED-LOCATION;VALUE=URI;X-ADDRESS=\, ;X-APPLE-RADIUS=100;X-TI
 TLE=:geo:0,0
END:VEVENT
BEGIN:VTIMEZONE
TZID:Europe/London
X-LIC-LOCATION:Europe/London
BEGIN:STANDARD
DTSTART:20211031T010000
TZOFFSETFROM:+0100
TZOFFSETTO:+0000
TZNAME:GMT
END:STANDARD
END:VTIMEZONE
END:VCALENDAR