BEGIN:VCALENDAR
VERSION:2.0
PRODID:-//wp-events-plugin.com//7.2.3.1//EN
TZID:Europe/London
X-WR-TIMEZONE:Europe/London
BEGIN:VEVENT
UID:242@abbottsann.com
DTSTART;TZID=Europe/London:20180930T110000
DTEND;TZID=Europe/London:20180930T120000
DTSTAMP:20180924T152505Z
URL:https://www.abbottsann.com/events/harvest-festival/
SUMMARY:Harvest Festival
DESCRIPTION:St Mary's Abbotts Ann\ncelebrating Harvest Festival\n\n11am Sun
 day 30th September\nJoin us for an all-age service at St Mary’s Church \
 nfollowed by a bring-and-share lunch \nin the War Memorial Hall\n(please s
 ign the list in the village shop)\n&nbsp\;
CATEGORIES:St Mary's Church Event
LOCATION:\, \, 
X-APPLE-STRUCTURED-LOCATION;VALUE=URI;X-ADDRESS=\, ;X-APPLE-RADIUS=100;X-TI
 TLE=:geo:0,0
END:VEVENT
BEGIN:VTIMEZONE
TZID:Europe/London
X-LIC-LOCATION:Europe/London
BEGIN:DAYLIGHT
DTSTART:20180325T020000
TZOFFSETFROM:+0000
TZOFFSETTO:+0100
TZNAME:BST
END:DAYLIGHT
END:VTIMEZONE
END:VCALENDAR