BEGIN:VCALENDAR
VERSION:2.0
PRODID:-//wp-events-plugin.com//7.2.3.1//EN
TZID:Europe/London
X-WR-TIMEZONE:Europe/London
BEGIN:VEVENT
UID:243@abbottsann.com
DTSTART;TZID=Europe/London:20180930T120000
DTEND;TZID=Europe/London:20180930T140000
DTSTAMP:20180924T145503Z
URL:https://www.abbottsann.com/events/harvest-lunch/
SUMMARY:Harvest lunch
DESCRIPTION:All are welcome to a \nHarvest Lunch \nin Abbotts Ann War Mem
 orial Hall\nIt's a bring and share meal - bring a savoury or a pudding and
  add it to the other dishes on the table.  We then all help yourselves.\n
 Bring something to drink.\nPlease sign the list in the village shop saying
  how many in your party and what you would like to bring.
CATEGORIES:St Mary's Church Event,Village Hall
LOCATION:\, \, 
X-APPLE-STRUCTURED-LOCATION;VALUE=URI;X-ADDRESS=\, ;X-APPLE-RADIUS=100;X-TI
 TLE=:geo:0,0
END:VEVENT
BEGIN:VTIMEZONE
TZID:Europe/London
X-LIC-LOCATION:Europe/London
BEGIN:DAYLIGHT
DTSTART:20180325T020000
TZOFFSETFROM:+0000
TZOFFSETTO:+0100
TZNAME:BST
END:DAYLIGHT
END:VTIMEZONE
END:VCALENDAR