BEGIN:VCALENDAR
VERSION:2.0
PRODID:-//wp-events-plugin.com//7.2.3.1//EN
TZID:Europe/London
X-WR-TIMEZONE:Europe/London
BEGIN:VEVENT
UID:360@abbottsann.com
DTSTART;TZID=Europe/London:20250320T193000
DTEND;TZID=Europe/London:20250320T213000
DTSTAMP:20250113T152804Z
URL:https://www.abbottsann.com/events/hockney-and-van-gogh-masters-of-colo
 ur/
SUMMARY:Hockney and Van Gogh Masters of Colour
DESCRIPTION:Gail Brown returns to the Abbotts Ann War Memorial Hall for yet
  another of her talks\, this time called "Hockney and Van Gogh Master of C
 olour"\nThe event is on Thursday 20th March 2025 starting at 7:30pm\nThe S
 peaker is Gail Brown\nTickets are £10 which includes a glass of wine\nYou
  can book your tickets at https://events.abbottsann.com\n
ATTACH;FMTTYPE=image/jpeg:https://www.abbottsann.com/wp-content/uploads/20
 25/01/Tangerine-art-talks-and-tours-icon.jpg
CATEGORIES:Abbotts Ann War Memorial Village Hall
LOCATION:Abbotts Ann War Memorial Hall\, Duck Street\, Abbotts Ann\, Hampsh
 ire\, SP117AZ\, United Kingdom
GEO:51.19161;-1.531056
X-APPLE-STRUCTURED-LOCATION;VALUE=URI;X-ADDRESS=Duck Street\, Abbotts Ann\,
  Hampshire\, SP117AZ\, United Kingdom;X-APPLE-RADIUS=100;X-TITLE=Abbotts A
 nn War Memorial Hall:geo:51.19161,-1.531056
END:VEVENT
BEGIN:VTIMEZONE
TZID:Europe/London
X-LIC-LOCATION:Europe/London
BEGIN:STANDARD
DTSTART:20241027T010000
TZOFFSETFROM:+0100
TZOFFSETTO:+0000
TZNAME:GMT
END:STANDARD
END:VTIMEZONE
END:VCALENDAR