BEGIN:VCALENDAR
VERSION:2.0
PRODID:-//wp-events-plugin.com//7.2.3.1//EN
TZID:Europe/London
X-WR-TIMEZONE:Europe/London
BEGIN:VEVENT
UID:147@abbottsann.com
DTSTART;TZID=Europe/London:20160930T193000
DTEND;TZID=Europe/London:20160930T223000
DTSTAMP:20160906T121830Z
URL:https://www.abbottsann.com/events/hog-limelight-victor-albert/
SUMMARY:Hog the Limelight - Victor and Albert
DESCRIPTION:Abbotts Ann Players in association with Hog the Limelight\nare 
 pleased to present\nVictor and Albert - An A-Z of Britain\nProfessor Victo
 r and Dr Albert Trelawney take you on a hilarious adventure exploring Brit
 ain and all things British.\nFeaturing highly original songs\, magic\, may
 hem and audience participation\, this is an evening of old fashioned Briti
 sh entertainment brought kicking and screaming into the 21st Century!\nThi
 nk of Morecambe and Wise crossed with Hinge and Bracket and you’ll get a
  good idea of what you are in for !\nCheck them out on Youtube here\nFor o
 ne night only –  Friday 30th September at 7.30pm at Abbotts Ann War Mem
 orial Hall\nTicket £12.50 per person – to include a light 2-course meal
  or £10 (no meal) available from the village shop now.
CATEGORIES:Abbotts Ann Players
LOCATION:\, \, 
X-APPLE-STRUCTURED-LOCATION;VALUE=URI;X-ADDRESS=\, ;X-APPLE-RADIUS=100;X-TI
 TLE=:geo:0,0
END:VEVENT
BEGIN:VTIMEZONE
TZID:Europe/London
X-LIC-LOCATION:Europe/London
BEGIN:DAYLIGHT
DTSTART:20160327T020000
TZOFFSETFROM:+0000
TZOFFSETTO:+0100
TZNAME:BST
END:DAYLIGHT
END:VTIMEZONE
END:VCALENDAR