BEGIN:VCALENDAR
VERSION:2.0
PRODID:-//wp-events-plugin.com//7.2.3.1//EN
TZID:Europe/London
X-WR-TIMEZONE:Europe/London
BEGIN:VEVENT
UID:42@abbottsann.com
DTSTART;TZID=Europe/London:20150403T180000
DTEND;TZID=Europe/London:20150403T220000
DTSTAMP:20150212T191716Z
URL:https://www.abbottsann.com/events/how-good-is-your-fish-pie/
SUMMARY:How good is your Fish Pie
DESCRIPTION:Good enough for Good Friday at the Abbotts Ann War Memorial Hal
 l\nYou are challenged to make the best fish pie ever eaten in Abbotts Ann\
 nThe best fish pie will win a mystery prize\nFishy quiz\, Fish Pie Contest
  and Wine Tasting\, Raffle during desserts\n&nbsp\;
CATEGORIES:Community Event
LOCATION:\, \, 
X-APPLE-STRUCTURED-LOCATION;VALUE=URI;X-ADDRESS=\, ;X-APPLE-RADIUS=100;X-TI
 TLE=:geo:0,0
END:VEVENT
BEGIN:VTIMEZONE
TZID:Europe/London
X-LIC-LOCATION:Europe/London
BEGIN:DAYLIGHT
DTSTART:20150329T020000
TZOFFSETFROM:+0000
TZOFFSETTO:+0100
TZNAME:BST
END:DAYLIGHT
END:VTIMEZONE
END:VCALENDAR