BEGIN:VCALENDAR
VERSION:2.0
PRODID:-//wp-events-plugin.com//7.2.3.1//EN
TZID:Europe/London
X-WR-TIMEZONE:Europe/London
BEGIN:VEVENT
UID:45@abbottsann.com
DTSTART;TZID=Europe/London:20150418T183000
DTEND;TZID=Europe/London:20150418T233000
DTSTAMP:20150226T174036Z
URL:https://www.abbottsann.com/events/mayors-mystery-evening/
SUMMARY:Mayor's Mystery Evening
DESCRIPTION:
CATEGORIES:Local Event
LOCATION:Hawk Conservancy Trust\, Off Sarson Lane\, Andover\, Hampshire\, S
 P11 8DY\, United Kingdom
GEO:51.2081232;-1.5622565999999551
X-APPLE-STRUCTURED-LOCATION;VALUE=URI;X-ADDRESS=Off Sarson Lane\, Andover\,
  Hampshire\, SP11 8DY\, United Kingdom;X-APPLE-RADIUS=100;X-TITLE=Hawk Con
 servancy Trust:geo:51.2081232,-1.5622565999999551
END:VEVENT
BEGIN:VTIMEZONE
TZID:Europe/London
X-LIC-LOCATION:Europe/London
BEGIN:DAYLIGHT
DTSTART:20150329T020000
TZOFFSETFROM:+0000
TZOFFSETTO:+0100
TZNAME:BST
END:DAYLIGHT
END:VTIMEZONE
END:VCALENDAR