BEGIN:VCALENDAR
VERSION:2.0
PRODID:-//wp-events-plugin.com//7.2.3.1//EN
TZID:Europe/London
X-WR-TIMEZONE:Europe/London
BEGIN:VEVENT
UID:234@abbottsann.com
DTSTART;TZID=Europe/London:20180219T190000
DTEND;TZID=Europe/London:20180219T210000
DTSTAMP:20180216T083525Z
URL:https://www.abbottsann.com/events/meeting-abbotts-ann-parish-council-s
 portsfield-management-advisory-committee/
SUMMARY:Meeting of Abbotts Ann Parish Council Sportsfield Management Adviso
 ry Committee
DESCRIPTION:All Members are duly summoned to attend the\nMeeting of Abbotts
  Ann Parish Council Sportsfield Management Advisory Committee\nTo be held 
 Monday 19th February at 19:00 at the Pavilion\, Bulbery\, Abbotts Ann\n
CATEGORIES:Bulbery Sports Field
LOCATION:Playing Field Pavilion\, Bulbery\, Duck Street\, Abbotts Ann\, Ham
 pshire\, SP11 7BN\, United Kingdom
GEO:51.18668492637364;-1.5332065322712651
X-APPLE-STRUCTURED-LOCATION;VALUE=URI;X-ADDRESS=Duck Street\, Abbotts Ann\,
  Hampshire\, SP11 7BN\, United Kingdom;X-APPLE-RADIUS=100;X-TITLE=Playing 
 Field Pavilion\, Bulbery:geo:51.18668492637364,-1.5332065322712651
END:VEVENT
BEGIN:VTIMEZONE
TZID:Europe/London
X-LIC-LOCATION:Europe/London
BEGIN:STANDARD
DTSTART:20171029T010000
TZOFFSETFROM:+0100
TZOFFSETTO:+0000
TZNAME:GMT
END:STANDARD
END:VTIMEZONE
END:VCALENDAR