BEGIN:VCALENDAR
VERSION:2.0
PRODID:-//wp-events-plugin.com//7.2.3.1//EN
TZID:Europe/London
X-WR-TIMEZONE:Europe/London
BEGIN:VEVENT
UID:211@abbottsann.com
DTSTART;TZID=Europe/London:20170914T193000
DTEND;TZID=Europe/London:20170914T200000
DTSTAMP:20170706T121104Z
URL:https://www.abbottsann.com/events/nursery-school-agm/
SUMMARY:Nursery School AGM
DESCRIPTION:Everyone is invited to attend Abbotts Ann Nursery School's AGM 
 on Thursday 14th September 2017 at 7.30pm. A new committee will be signed 
 in and anyone interested in attending the AGM or joining the committee is 
 invited to contact the current Chair at AANSchair@gmail.com for further de
 tails.\nCommittee members can be parents/carers of children that attend th
 e nursery school\, or any other individual or organisation that wishes to 
 protect and promote the interests of the nursery school\, registered chari
 ty number 1169193.
CATEGORIES:Community Event,Local Event
LOCATION:\, \, 
X-APPLE-STRUCTURED-LOCATION;VALUE=URI;X-ADDRESS=\, ;X-APPLE-RADIUS=100;X-TI
 TLE=:geo:0,0
END:VEVENT
BEGIN:VTIMEZONE
TZID:Europe/London
X-LIC-LOCATION:Europe/London
BEGIN:DAYLIGHT
DTSTART:20170326T020000
TZOFFSETFROM:+0000
TZOFFSETTO:+0100
TZNAME:BST
END:DAYLIGHT
END:VTIMEZONE
END:VCALENDAR