BEGIN:VCALENDAR
VERSION:2.0
PRODID:-//wp-events-plugin.com//7.2.3.1//EN
TZID:Europe/London
X-WR-TIMEZONE:Europe/London
BEGIN:VEVENT
UID:241@abbottsann.com
DTSTART;TZID=Europe/London:20180913T193000
DTEND;TZID=Europe/London:20180913T203000
DTSTAMP:20180910T144359Z
URL:https://www.abbottsann.com/events/public-exhibition-is-being-held-by-t
 he-owners-of-manor-farm/
SUMMARY:Public Exhibition is being held by the owners of Manor Farm
DESCRIPTION:An opportunity to share your views on how to find a solution to
  the lorry problem at Manor Farm\nPUBLIC EXHIBITION 13th Sep 2018\n7:30 
 – 8:30\nVenue: Abbotts Ann War Memorial Hall\nThis Exhibition is held by
  the owners of Manor Farm\, to give local residents the opportunity to dis
 cuss and share views on the potential change of use to residential housing
  at the Manor Farm site\, in view of addressing the transport problems.\nW
 e welcome everyone to come along and discuss this with us\, and to give us
  your feedback and support.\nWe look forward to seeing you!
CATEGORIES:Community Event
LOCATION:\, \, 
X-APPLE-STRUCTURED-LOCATION;VALUE=URI;X-ADDRESS=\, ;X-APPLE-RADIUS=100;X-TI
 TLE=:geo:0,0
END:VEVENT
BEGIN:VTIMEZONE
TZID:Europe/London
X-LIC-LOCATION:Europe/London
BEGIN:DAYLIGHT
DTSTART:20180325T020000
TZOFFSETFROM:+0000
TZOFFSETTO:+0100
TZNAME:BST
END:DAYLIGHT
END:VTIMEZONE
END:VCALENDAR