BEGIN:VCALENDAR
VERSION:2.0
PRODID:-//wp-events-plugin.com//7.2.3.1//EN
TZID:Europe/London
X-WR-TIMEZONE:Europe/London
BEGIN:VEVENT
UID:146@abbottsann.com
DTSTART;TZID=Europe/London:20160910T100000
DTEND;TZID=Europe/London:20160910T180000
DTSTAMP:20160801T074535Z
URL:https://www.abbottsann.com/events/ride-or-stride-for-st-marys-church-a
 bbotts-ann/
SUMMARY:Ride or Stride for St Mary's Church Abbotts Ann
DESCRIPTION:Enjoy Cycling or walking and fancy a challenge\, or just a nice
  day out?Why not get sponsored to visit the regions historic churches? You
  can choose your own route\, how many churches you wish to visit and set y
 our own pace.  Money raised will be split equally between the Hampshire &
 amp\; the Islands Historic Churches Trust and St Mary's Abbotts Ann.The ev
 ent takes place on Saturday the 10th of September and churches are open be
 tween 10am and 6pm for you to check in and in many cases also provide ref
 reshments.  If you are interested in taking part or wish to find out more
  contact Hannah Church on 710 584 for further details and sponsorship form
 s.&nbsp\;
CATEGORIES:St Mary's Church Event
END:VEVENT
BEGIN:VTIMEZONE
TZID:Europe/London
X-LIC-LOCATION:Europe/London
BEGIN:DAYLIGHT
DTSTART:20160327T020000
TZOFFSETFROM:+0000
TZOFFSETTO:+0100
TZNAME:BST
END:DAYLIGHT
END:VTIMEZONE
END:VCALENDAR