BEGIN:VCALENDAR
VERSION:2.0
PRODID:-//wp-events-plugin.com//7.2.3.1//EN
TZID:Europe/London
X-WR-TIMEZONE:Europe/London
BEGIN:VEVENT
UID:156@abbottsann.com
DTSTART;TZID=Europe/London:20161202T000000
DTEND;TZID=Europe/London:20161204T000000
DTSTAMP:20161008T080455Z
URL:https://www.abbottsann.com/events/snow-white/
SUMMARY:Village Panto - Snow White
DESCRIPTION:Another fabulous pantomime production is on the way from the Ab
 botts Ann Players\, written by Alexandra Slater and directed by Andrew Hay
 ter.\nA traditional panto retelling of the old favourite\, with hilarious 
 new twists.  If you like a touch of silliness mixed up with a few songs a
 nd a lot of laughter then come along and bring all the family!   See deta
 ils in the poster below:\n
CATEGORIES:Abbotts Ann Players
LOCATION:\, \, 
X-APPLE-STRUCTURED-LOCATION;VALUE=URI;X-ADDRESS=\, ;X-APPLE-RADIUS=100;X-TI
 TLE=:geo:0,0
END:VEVENT
BEGIN:VTIMEZONE
TZID:Europe/London
X-LIC-LOCATION:Europe/London
BEGIN:STANDARD
DTSTART:20161030T010000
TZOFFSETFROM:+0100
TZOFFSETTO:+0000
TZNAME:GMT
END:STANDARD
END:VTIMEZONE
END:VCALENDAR