BEGIN:VCALENDAR
VERSION:2.0
PRODID:-//wp-events-plugin.com//7.2.3.1//EN
TZID:Europe/London
X-WR-TIMEZONE:Europe/London
BEGIN:VEVENT
UID:252@abbottsann.com
DTSTART;TZID=Europe/London:20190301T193000
DTEND;TZID=Europe/London:20190301T230000
DTSTAMP:20190110T142356Z
URL:https://www.abbottsann.com/events/st-davids-day-entertainment-a-grand-
 night-for-singing/
SUMMARY:St David's Day Entertainment - A Grand Night For Singing
DESCRIPTION:An evening of entertainment and supper to raise money for St Ma
 ry's Church toilet fund
CATEGORIES:Community Event,Local Event,St Mary's Church Event,Village Hall
LOCATION:\, \, 
X-APPLE-STRUCTURED-LOCATION;VALUE=URI;X-ADDRESS=\, ;X-APPLE-RADIUS=100;X-TI
 TLE=:geo:0,0
END:VEVENT
BEGIN:VTIMEZONE
TZID:Europe/London
X-LIC-LOCATION:Europe/London
BEGIN:STANDARD
DTSTART:20181028T010000
TZOFFSETFROM:+0100
TZOFFSETTO:+0000
TZNAME:GMT
END:STANDARD
END:VTIMEZONE
END:VCALENDAR