BEGIN:VCALENDAR
VERSION:2.0
PRODID:-//wp-events-plugin.com//7.2.3.1//EN
TZID:Europe/London
X-WR-TIMEZONE:Europe/London
BEGIN:VEVENT
UID:176@abbottsann.com
DTSTART;TZID=Europe/London:20170426T193000
DTEND;TZID=Europe/London:20170426T210000
DTSTAMP:20170408T205029Z
URL:https://www.abbottsann.com/events/st-marys-annual-parochial-church-mee
 ting/
SUMMARY:St Mary's Annual Parochial Church Meeting
DESCRIPTION:The annual meeting of St. Mary's Abbotts Ann.\n&nbsp\;
CATEGORIES:Community Event,St Mary's Church Event
LOCATION:\, \, 
X-APPLE-STRUCTURED-LOCATION;VALUE=URI;X-ADDRESS=\, ;X-APPLE-RADIUS=100;X-TI
 TLE=:geo:0,0
END:VEVENT
BEGIN:VTIMEZONE
TZID:Europe/London
X-LIC-LOCATION:Europe/London
BEGIN:DAYLIGHT
DTSTART:20170326T020000
TZOFFSETFROM:+0000
TZOFFSETTO:+0100
TZNAME:BST
END:DAYLIGHT
END:VTIMEZONE
END:VCALENDAR