BEGIN:VCALENDAR
VERSION:2.0
PRODID:-//wp-events-plugin.com//7.2.3.1//EN
TZID:Europe/London
X-WR-TIMEZONE:Europe/London
BEGIN:VEVENT
UID:376@abbottsann.com
DTSTART;TZID=Europe/London:20250522T190000
DTEND;TZID=Europe/London:20250522T203000
DTSTAMP:20250430T113947Z
URL:https://www.abbottsann.com/events/st-marys-church-warmly-invite-you-to
 -the-annual-meeting-of-parishioners/
SUMMARY:St Mary's Church warmly invite you to the Annual Meeting of Parishi
 oners
DESCRIPTION:St Mary's Church warmly invite you to the Annual Meeting of Par
 ishioners to elect two Churchwardens.\nThursday 22nd May\, 2025. 7pm&nbsp\
 ;@ Abbotts Ann War Memorial Hall\nThey are the principal trustees of the c
 hurch. Anyone registered on the church electoral roll\, or who is an elect
 or of the civil parish is entitled to vote.\nThis will be followed immedia
 tely by the&nbsp\;Annual Parochial Church Meeting to conduct the business 
 of the church and report on activities during 2024. Anyone who is listed o
 n St Mary's electoral roll (closes to applicants on 7th May)\, may vote at
  this meeting. Meeting papers will be on display in the church vestibule o
 ne week prior to the meeting.\nElectronic personal copies are available by
  email - contact abbotts.ann.pcc.sec@abbottsann.com\nJoin us for refreshme
 nts from 6.45pm. All welcome!
ATTACH;FMTTYPE=image/jpeg:https://www.abbottsann.com/wp-content/uploads/20
 25/04/Church-2.jpg
CATEGORIES:Church
LOCATION:Abbotts Ann War Memorial Hall\, Duck Street\, Abbotts Ann\, Hampsh
 ire\, SP117AZ\, United Kingdom
GEO:51.19161;-1.531056
X-APPLE-STRUCTURED-LOCATION;VALUE=URI;X-ADDRESS=Duck Street\, Abbotts Ann\,
  Hampshire\, SP117AZ\, United Kingdom;X-APPLE-RADIUS=100;X-TITLE=Abbotts A
 nn War Memorial Hall:geo:51.19161,-1.531056
END:VEVENT
BEGIN:VTIMEZONE
TZID:Europe/London
X-LIC-LOCATION:Europe/London
BEGIN:DAYLIGHT
DTSTART:20250330T020000
TZOFFSETFROM:+0000
TZOFFSETTO:+0100
TZNAME:BST
END:DAYLIGHT
END:VTIMEZONE
END:VCALENDAR