BEGIN:VCALENDAR
VERSION:2.0
PRODID:-//wp-events-plugin.com//7.2.3.1//EN
TZID:Europe/London
X-WR-TIMEZONE:Europe/London
BEGIN:VEVENT
UID:240@abbottsann.com
DTSTART;TZID=Europe/London:20180713T190000
DTEND;TZID=Europe/London:20180713T200000
DTSTAMP:20180628T101418Z
URL:https://www.abbottsann.com/events/summer-serenade-evening-concert/
SUMMARY:Summer Serenade evening concert
DESCRIPTION:Peter Gilks and Gwilym Stacey will entertain with a programme o
 f light music for a summer evening at St Mary's Church\, 7pm Friday 13th J
 uly.  Refreshments afterwards.  Tickets £8 from Abbotts Ann Village Sho
 p and the Beehive Stores Goodworth Clatford.\n13 Jul concert poster\n&nbsp
 \;
CATEGORIES:Community Event,Local Event,St Mary's Church Event
LOCATION:St Marys Church\, St. Mary's Church\, Abbotts Ann\, Hampshire\, SP
 11 7BH\, United Kingdom
GEO:51.190375;-1.528365
X-APPLE-STRUCTURED-LOCATION;VALUE=URI;X-ADDRESS=St. Mary's Church\, Abbotts
  Ann\, Hampshire\, SP11 7BH\, United Kingdom;X-APPLE-RADIUS=100;X-TITLE=St
  Marys Church:geo:51.190375,-1.528365
END:VEVENT
BEGIN:VTIMEZONE
TZID:Europe/London
X-LIC-LOCATION:Europe/London
BEGIN:DAYLIGHT
DTSTART:20180325T020000
TZOFFSETFROM:+0000
TZOFFSETTO:+0100
TZNAME:BST
END:DAYLIGHT
END:VTIMEZONE
END:VCALENDAR