BEGIN:VCALENDAR
VERSION:2.0
PRODID:-//wp-events-plugin.com//7.2.3.1//EN
TZID:Europe/London
X-WR-TIMEZONE:Europe/London
BEGIN:VEVENT
UID:276@abbottsann.com
DTSTART;TZID=Europe/London;VALUE=DATE:20220804
DTEND;TZID=Europe/London;VALUE=DATE:20220805
DTSTAMP:20220711T173452Z
URL:https://www.abbottsann.com/events/the-abbotts-ann-wi-summer-outing/
SUMMARY:The Abbotts Ann WI Summer Outing
DESCRIPTION:\nThe Abbotts Ann WI Summer Outing \nTyntesfield\, Somerset\nTh
 ursday 4th August 2022\nPick Up 9.00am from The Eagle\nCoach only: £15\nO
 pen to ALL\nThis is a National Trust property so remember to bring your NT
  Membership cards\n(£14 entry for non NT Members)\nTo reserve your place 
 tel. Aileen 01264 710268 \nor Lynne 01264 710037\n\n&nbsp\;
CATEGORIES:Community Event
LOCATION:Eagle Pub\, Duck Street\, Abbotts Ann\, United Kingdom
X-APPLE-STRUCTURED-LOCATION;VALUE=URI;X-ADDRESS=Duck Street\, Abbotts Ann\,
  United Kingdom;X-APPLE-RADIUS=100;X-TITLE=Eagle Pub:geo:0,0
END:VEVENT
BEGIN:VTIMEZONE
TZID:Europe/London
X-LIC-LOCATION:Europe/London
BEGIN:DAYLIGHT
DTSTART:20220327T020000
TZOFFSETFROM:+0000
TZOFFSETTO:+0100
TZNAME:BST
END:DAYLIGHT
END:VTIMEZONE
END:VCALENDAR