BEGIN:VCALENDAR
VERSION:2.0
PRODID:-//wp-events-plugin.com//7.2.3.1//EN
TZID:Europe/London
X-WR-TIMEZONE:Europe/London
BEGIN:VEVENT
UID:172@abbottsann.com
DTSTART;TZID=Europe/London:20170421T190000
DTEND;TZID=Europe/London:20170421T210000
DTSTAMP:20170328T191000Z
URL:https://www.abbottsann.com/events/the-annual-parish-assembly/
SUMMARY:The Annual Parish Assembly
DESCRIPTION:Electors of the Parish of Abbotts Ann\nare invited to attend\nT
 HE ANNUAL PARISH ASSEMBLY\nThis meeting will be held at: War Memorial Hall
 \, Abbotts Ann \nOn : Friday 21st April 2017 Time: 7.00pm\nUnder the Chair
 manship of:\nCouncillor Andrew Hayter\n(Chairman of the Parish Council)\nT
 he Parish Meeting may by law discuss all parish affairs and pass resolutio
 ns about them although the resolutions may not be binding upon the council
 . The format is as follows:\nPART ONE: From 7.00pm\nEveryone from the Pari
 sh is invited to come and meet representatives of the Abbotts Ann Parish O
 rganisations and to have a chat with members of the Parish Council.\nDrink
 s and nibbles will be served.\nPART TWO: From 8.00pm\nChairman’s Report 
 followed by General Q&amp\;A session with members of Abbotts Ann Parish Co
 uncil.\nNotice issued by: Clare Cotterell – Clerk\nEmail address: abbott
 sannparishcouncil@gmail.com\nDate of Issue: 14 March 2017 Tel No: 01264 78
 2869\nThe Annual Parish Assembly is also known as the Annual Parish Meetin
 g\nMembers of The Press are welcome to attend
CATEGORIES:Parish Council
LOCATION:\, \, 
X-APPLE-STRUCTURED-LOCATION;VALUE=URI;X-ADDRESS=\, ;X-APPLE-RADIUS=100;X-TI
 TLE=:geo:0,0
END:VEVENT
BEGIN:VTIMEZONE
TZID:Europe/London
X-LIC-LOCATION:Europe/London
BEGIN:DAYLIGHT
DTSTART:20170326T020000
TZOFFSETFROM:+0000
TZOFFSETTO:+0100
TZNAME:BST
END:DAYLIGHT
END:VTIMEZONE
END:VCALENDAR