BEGIN:VCALENDAR
VERSION:2.0
PRODID:-//wp-events-plugin.com//7.2.3.1//EN
TZID:Europe/London
X-WR-TIMEZONE:Europe/London
BEGIN:VEVENT
UID:174@abbottsann.com
DTSTART;TZID=Europe/London:20170505T193000
DTEND;TZID=Europe/London:20170505T230000
DTSTAMP:20170405T195738Z
URL:https://www.abbottsann.com/events/tramps-ball-on-friday-5th-may-730-un
 til-11pm/
SUMMARY:Tramps Ball on Friday 5th May 7:30 until 11pm
DESCRIPTION:Tickets are on sale now at the Abbotts Ann Village Shop priced 
 £15\n
CATEGORIES:Abbotts Ann Players
LOCATION:\, \, 
X-APPLE-STRUCTURED-LOCATION;VALUE=URI;X-ADDRESS=\, ;X-APPLE-RADIUS=100;X-TI
 TLE=:geo:0,0
END:VEVENT
BEGIN:VTIMEZONE
TZID:Europe/London
X-LIC-LOCATION:Europe/London
BEGIN:DAYLIGHT
DTSTART:20170326T020000
TZOFFSETFROM:+0000
TZOFFSETTO:+0100
TZNAME:BST
END:DAYLIGHT
END:VTIMEZONE
END:VCALENDAR